Workbook
Name PRINTS: Cash!$C$45:$C$45

Sheet Settings
A2: Parish: | C2: Piddington | J2: =C2&" Parish Council" -> Piddington Parish Council | N2: Year ending | P2: =DATE(C4,3,31) -> 42825 | S2: =DATE(C4-1,3,31) -> 42460
A4: Year to 31st March | C4: 2017 | J4: ="1st April "&TEXT(C4-1,"0000") -> 1st April 2016 | L4: to | M4: ="31st March "&TEXT(C4,"0000") -> 31st March 2017 | O4: ="31st March "&TEXT(C4-1,"0000") -> 31st March 2016 | Q4: =TEXT(C4-1,"0000")&"/"&TEXT(MOD(C4,100),"00") -> 2016/17
A6: Latest Bank Statement | C6: 42825
A7: Prior Statement date | C7: 42794 | E7: Date of statement used for report to previous meeting
A9: Last Meeting | C9: 42815
A11: Next Meeting | C11: 42843
A13: Bank Accounts | C13: Savings account
C14: Current account
A19: Budget Items | G19: Black | H19: items are standard
G20: Grey | H20: are not applicable
A21: Receipts: | B21: 1 | C21: Precept | D21: Precept | G21: Green | H21: are customised
B22: 2 | C22: Bank | D22: Interest
B23: 3 | C23: Rental | D23: Income
B24: 4 | C24: Allotments
B25: 5 | C25: Grants & Donations | D25: Grants
B26: 6
B27: 7
B28: 8 | D28: Donations
B29: 9
B30: 10 | C30: CLP | D30: CLP
B31: 11 | C31: Miscell. | D31: Receipts
C33: VAT refund
A37: Payments: | B37: 1 | C37: Personnel | D37: Salaries
B38: 2 | D38: Clerks expenses
B39: 3 | D39: Cllrs Travel Expenses
B40: 4 | D40: Training
B41: 5 | C41: Finance | D41: Bank Interest
B42: 6 | D42: Bank Charges
B43: 7 | C43: Admin | D43: Office / stationery
B44: 8 | D44: Meeting room Hire
B45: 9 | D45: Insurance
B46: 10 | C46: Fees & Subscriptions | D46: Audit
B47: 11 | D47: Data Protection
B48: 12 | D48: RoSPA Inspection
B49: 13 | D49: Subscrip-tions
B50: 14 | D50: Election
B51: 15 | C51: Maintenance | D51: Grass Cutting
B52: 16 | D52: Dog bin collection
B53: 17
B54: 18 | D54: Other
...

Sheet Report
A1: =Settings!J2 -> Piddington Parish Council | F1: Monthly Financial Report
E3: Parish Council Meeting | F3: =Settings!$C$11 -> 42843
A5: Payments processed since last meeting | F5: =SUM(F7:F19) -> 1256.6
B7: =IF(Worksheet!C2=0,"",Worksheet!C2) -> 42815 | D7: =IF(Worksheet!D2=0,"",IF(Worksheet!G2="Cancelled",Worksheet!G2,Worksheet!D2)) -> PVH | E7: =IF(Worksheet!F2=0,"",Worksheet!F2) -> 100235 | F7: =IF(Worksheet!H2=0,"",Worksheet!H2) -> 20
B8: =IF(Worksheet!C3=0,"",Worksheet!C3) -> 42815 | D8: =IF(Worksheet!D3=0,"",IF(Worksheet!G3="Cancelled",Worksheet!G3,Worksheet!D3)) -> HMRC | E8: =IF(Worksheet!F3=0,"",Worksheet!F3) -> 100236 | F8: =IF(Worksheet!H3=0,"",Worksheet!H3) -> 46
B9: =IF(Worksheet!C4=0,"",Worksheet!C4) -> 42815 | D9: =IF(Worksheet!D4=0,"",IF(Worksheet!G4="Cancelled",Worksheet!G4,Worksheet!D4)) -> Mrs A Davies | E9: =IF(Worksheet!F4=0,"",Worksheet!F4) -> 100237 | F9: =IF(Worksheet!H4=0,"",Worksheet!H4) -> 230.6
B10: =IF(Worksheet!C5=0,"",Worksheet!C5) -> 42815 | D10: =IF(Worksheet!D5=0,"",IF(Worksheet!G5="Cancelled",Worksheet!G5,Worksheet!D5)) -> M Rudge Tree Services | E10: =IF(Worksheet!F5=0,"",Worksheet!F5) -> 100238 | F10: =IF(Worksheet!H5=0,"",Worksheet!H5) -> 960
B11: =IF(Worksheet!C6=0,"",Worksheet!C6) | D11: =IF(Worksheet!D6=0,"",IF(Worksheet!G6="Cancelled",Worksheet!G6,Worksheet!D6)) | E11: =IF(Worksheet!F6=0,"",Worksheet!F6) | F11: =IF(Worksheet!H6=0,"",Worksheet!H6)
B12: =IF(Worksheet!C7=0,"",Worksheet!C7) | D12: =IF(Worksheet!D7=0,"",IF(Worksheet!G7="Cancelled",Worksheet!G7,Worksheet!D7)) | E12: =IF(Worksheet!F7=0,"",Worksheet!F7) | F12: =IF(Worksheet!H7=0,"",Worksheet!H7)
B13: =IF(Worksheet!C8=0,"",Worksheet!C8) | D13: =IF(Worksheet!D8=0,"",IF(Worksheet!G8="Cancelled",Worksheet!G8,Worksheet!D8)) | E13: =IF(Worksheet!F8=0,"",Worksheet!F8) | F13: =IF(Worksheet!H8=0,"",Worksheet!H8)
B14: =IF(Worksheet!C9=0,"",Worksheet!C9) | D14: =IF(Worksheet!D9=0,"",IF(Worksheet!G9="Cancelled",Worksheet!G9,Worksheet!D9)) | E14: =IF(Worksheet!F9=0,"",Worksheet!F9) | F14: =IF(Worksheet!H9=0,"",Worksheet!H9)
B15: =IF(Worksheet!C10=0,"",Worksheet!C10) | D15: =IF(Worksheet!D10=0,"",IF(Worksheet!G10="Cancelled",Worksheet!G10,Worksheet!D10)) | E15: =IF(Worksheet!F10=0,"",Worksheet!F10) | F15: =IF(Worksheet!H10=0,"",Worksheet!H10)
B16: =IF(Worksheet!C11=0,"",Worksheet!C11) | D16: =IF(Worksheet!D11=0,"",IF(Worksheet!G11="Cancelled",Worksheet!G11,Worksheet!D11)) | E16: =IF(Worksheet!F11=0,"",Worksheet!F11) | F16: =IF(Worksheet!H11=0,"",Worksheet!H11)
B17: =IF(Worksheet!C12=0,"",Worksheet!C12) | D17: =IF(Worksheet!D12=0,"",IF(Worksheet!G12="Cancelled",Worksheet!G12,Worksheet!D12)) | E17: =IF(Worksheet!F12=0,"",Worksheet!F12) | F17: =IF(Worksheet!H12=0,"",Worksheet!H12)
B18: =IF(Worksheet!C13=0,"",IF(Worksheet!C33=0,Worksheet!C13,"+ "&Worksheet!C33+1&" more")) | D18: =IF(OR(Worksheet!D13=0,Worksheet!C$33>0),"",IF(Worksheet!G13="Cancelled",Worksheet!G13,Worksheet!D13)) | E18: =IF(OR(Worksheet!F13=0,Worksheet!C$33>0),"",Worksheet!F13) | F18: =IF(Worksheet!H33=0,IF(Worksheet!H12=0,"",Worksheet!H12),Worksheet!H33)
A20: Receipts processed since previous report | F20: =SUM(F22:F28) -> 1316.78
B22: =IF(Worksheet!C37=0,"",Worksheet!C37) -> 42813 | D22: =IF(Worksheet!D37=0,"",Worksheet!D37) -> Bank | F22: =IF(Worksheet!G37+Worksheet!H37=0,"",Worksheet!G37+Worksheet!H37) -> 0.28
B23: =IF(Worksheet!C38=0,"",Worksheet!C38) -> 42802 | D23: =IF(Worksheet!D38=0,"",Worksheet!D38) -> CDC | F23: =IF(Worksheet!G38+Worksheet!H38=0,"",Worksheet!G38+Worksheet!H38) -> 1316.5
B24: =IF(Worksheet!C39=0,"",Worksheet!C39) | D24: =IF(Worksheet!D39=0,"",Worksheet!D39) | F24: =IF(Worksheet!G39+Worksheet!H39=0,"",Worksheet!G39+Worksheet!H39)
B25: =IF(Worksheet!C40=0,"",Worksheet!C40) | D25: =IF(Worksheet!D40=0,"",Worksheet!D40) | F25: =IF(Worksheet!G40+Worksheet!H40=0,"",Worksheet!G40+Worksheet!H40)
B26: =IF(Worksheet!C41=0,"",Worksheet!C41) | D26: =IF(Worksheet!D41=0,"",Worksheet!D41) | F26: =IF(Worksheet!G41+Worksheet!H41=0,"",Worksheet!G41+Worksheet!H41)
B27: =IF(Worksheet!C42=0,"",IF(Worksheet!C58=0,Worksheet!C42,"+ "&Worksheet!C58+1&" more")) | D27: =IF(OR(Worksheet!D42=0,Worksheet!C58>0),"",Worksheet!D42) | F27: =IF(Worksheet!H58=0,IF(Worksheet!G41+Worksheet!H41=0,"",Worksheet!G41+Worksheet!H41),Worksheet!H58)
A29: Bank Reconciliation | E29: Statement dated | F29: =Settings!C6 -> 42825
D31: Savings Account | F31: =IF(Cash!D23+Cash!E23=0,Cash!D29,"Not reconciled") -> 9013.33
D32: Current account | F32: =IF(Cash!D23+Cash!E23=0,Cash!E29,"Not reconciled") -> 16919.91
B34: Items not yet cleared:
B36: Receipts | C36: =IF(ISNA(Worksheet!$R2),"None","") -> None | D36: =IF(ISNA(Worksheet!$R2),"",OFFSET(Receipts!$A$10,Worksheet!$Q3-2,1)) | F36: =IF(ISNA(Worksheet!$R2),"",SUM(OFFSET(Receipts!$A$10,Worksheet!$Q3-2,4,1,2)))
D37: =IF(ISNA(Worksheet!$R3),"",OFFSET(Receipts!$A$10,Worksheet!$Q4-2,1)) | F37: =IF(ISNA(Worksheet!$R3),"",SUM(OFFSET(Receipts!$A$10,Worksheet!$Q4-2,4,1,2)))
D38: =IF(ISNA(Worksheet!$R4),"",OFFSET(Receipts!$A$10,Worksheet!$Q5-2,1)) | F38: =IF(ISNA(Worksheet!$R4),"",SUM(OFFSET(Receipts!$A$10,Worksheet!$Q5-2,4,1,2)))
D39: =IF(ISNA(Worksheet!$R5),"",IF(ISNA(Worksheet!$R6),OFFSET(Receipts!$A$10,Worksheet!$Q6-2,1),"+ "&COUNT(Worksheet!Q6:Q21)&" more")) | F39: =IF(ISNA(Worksheet!$R5),"",IF(ISNA(Worksheet!$R6),SUM(OFFSET(Receipts!$A$10,Worksheet!$Q6-2,4,1,2)),SUM(Worksheet!S6:S20)))
B41: Payments | C41: =IF(ISNA(Worksheet!$M2),"None","") | D41: =IF(ISNA(Worksheet!$M2),"",OFFSET(Payments!$A$11,Worksheet!$L3-2,1)) -> PVH | F41: =IF(ISNA(Worksheet!$M2),"",OFFSET(Payments!$A$11,Worksheet!$L3-2,5)) -> 20
D42: =IF(ISNA(Worksheet!$M3),"",OFFSET(Payments!$A$11,Worksheet!$L4-2,1)) | F42: =IF(ISNA(Worksheet!$M3),"",OFFSET(Payments!$A$11,Worksheet!$L4-2,5))
D43: =IF(ISNA(Worksheet!$M4),"",OFFSET(Payments!$A$11,Worksheet!$L5-2,1)) | F43: =IF(ISNA(Worksheet!$M4),"",OFFSET(Payments!$A$11,Worksheet!$L5-2,5))
D44: =IF(ISNA(Worksheet!$M5),"",OFFSET(Payments!$A$11,Worksheet!$L6-2,1)) | F44: =IF(ISNA(Worksheet!$M5),"",OFFSET(Payments!$A$11,Worksheet!$L6-2,5))
D45: =IF(ISNA(Worksheet!$M6),"",OFFSET(Payments!$A$11,Worksheet!$L7-2,1)) | F45: =IF(ISNA(Worksheet!$M6),"",OFFSET(Payments!$A$11,Worksheet!$L7-2,5))
D46: =IF(ISNA(Worksheet!$M7),"",OFFSET(Payments!$A$11,Worksheet!$L8-2,1)) | F46: =IF(ISNA(Worksheet!$M7),"",OFFSET(Payments!$A$11,Worksheet!$L8-2,5))
D47: =IF(ISNA(Worksheet!$M8),"",OFFSET(Payments!$A$11,Worksheet!$L9-2,1)) | F47: =IF(ISNA(Worksheet!$M8),"",OFFSET(Payments!$A$11,Worksheet!$L9-2,5))
D48: =IF(ISNA(Worksheet!$M9),"",OFFSET(Payments!$A$11,Worksheet!$L10-2,1)) | F48: =IF(ISNA(Worksheet!$M9),"",OFFSET(Payments!$A$11,Worksheet!$L10-2,5))
D49: =IF(ISNA(Worksheet!$M10),"",OFFSET(Payments!$A$11,Worksheet!$L11-2,1)) | F49: =IF(ISNA(Worksheet!$M10),"",OFFSET(Payments!$A$11,Worksheet!$L11-2,5))
D50: =IF(ISNA(Worksheet!$M11),"",OFFSET(Payments!$A$11,Worksheet!$L12-2,1)) | F50: =IF(ISNA(Worksheet!$M11),"",OFFSET(Payments!$A$11,Worksheet!$L12-2,5))
...

Sheet Cash
B2: =Settings!J2 -> Piddington Parish Council
B4: Cash summary | D4: Year to | E4: =IF(TODAY()>Settings!$P$2,Settings!$M$4,"date") -> 31st March 2017
D9: Savings | E9: Current
D10: Account | E10: Account
A12: Bank account Balance | B12: =Settings!$O$4 -> 31st March 2016 | D12: 9008.27 | E12: 17464.96
A14: Payments made but not cleared | E14: =-SUM(Payments!F11:F19) -> -39
A16: Receipts | B16: =Settings!$Q$4 -> 2016/17 | D16: =Receipts!$E$4 -> 5.06 | E16: =Receipts!$F$4 -> 16412.06
A18: Payments | B18: =Settings!$Q$4 -> 2016/17 | E18: =-Payments!$F$4 -> -16938.11
A20: Receipts not yet cleared | D20: =-SUMIF(Receipts!$D10:$D99,"",Receipts!E10:E99) -> 0 | E20: =-SUMIF(Receipts!$D10:$D99,"",Receipts!F10:F99) -> 0
A21: Payments made but not cleared | E21: =SUMIF(Payments!E11:E999,"",Payments!F11:F999) -> 20
A23: Net transfers | D23: =ROUND(D29-SUM(D12:D21),4) -> 0 | E23: =ROUND(E29-SUM(E12:E21),4) -> 0
A25: Adjustments (see notes) | E25: 0
A29: Bank account Balance | B29: =IF(Settings!C6<Settings!S2,Settings!O4,IF(TODAY()>Settings!$P$2,Settings!$M$4,TEXT(Settings!C6,"dd-mmm-yyyy"))) -> 31st March 2017 | D29: 9013.33 | E29: 16919.91
E34: Anne Davies

Sheet Receipts
A1: =Settings!J2 -> Piddington Parish Council | C1: Receipts | H1: Analysis
A3: =Income!E3 -> 1st April 2016 to 31st March 2017
C4: Running totals | E4: =SUM(E10:E995) -> 5.06 | F4: =SUM(F10:F995) -> 16412.06 | H4: =SUM(H10:H995) -> 8100 | I4: =SUM(I10:I995) -> 5.06 | J4: =SUM(J10:J995) -> 0 | K4: =SUM(K10:K995) -> 140 | L4: =SUM(L10:L995) -> 1577.52 | M4: =SUM(M10:M995) -> 3000 | N4: =SUM(N10:N995) -> 0 | O4: =SUM(O10:O995) -> 735 | ... R4: =SUM(R10:R995) -> 0 | T4: =SUM(T10:T995) -> 2769.54
C5: Aggregate total | F5: =SUM(E4:F4) -> 16417.12 | H5: =SUM(H4:T4) -> 16417.12 | I5: + VAT
A7: Date | B7: Source | C7: Details | D7: Bank | E7: Savings | F7: Current | H7: Precept | I7: Bank | J7: Rental | K7: Allotments | L7: Grants & Donations | Q7: CLP | R7: Miscell. | T7: VAT refund
D8: statement | E8: Account | F8: Account | H8: Precept | I8: Interest | J8: Income | L8: National Grant | M8: Other Grants | O8: Donations | Q8: CLP | R8: Receipts
A11: 42461 | B11: D. Kerwood | C11: Allotment refund donated | D11: donation | F11: 30 | O11: 30
A12: 42472 | B12: deposit | C12: allotment | D12: 42490 | F12: 80 | K12: 80
A13: 42478 | B13: HMRC | C13: VAT refund | D13: 42480 | F13: 1310.99 | T13: 1310.99
A14: 42479 | B14: Bank | C14: interest | D14: 42479 | E14: 0.54 | I14: 0.54
A15: 42481 | B15: deposit | C15: allotment | D15: 42490 | F15: 10 | K15: 10
A16: 42482 | B16: CDC | C16: precept | D16: 42490 | F16: 4311.02 | H16: 4050 | L16: 261.02
A17: 42500 | B17: deposit | C17: allotments | D17: 42521 | F17: 50 | K17: 50
A18: 42500 | B18: PVH | C18: donation | D18: 42521 | F18: 155 | O18: 155
A19: 42509 | B19: Bank | C19: interest | D19: 42509 | E19: 0.52 | I19: 0.52
A20: 42540 | B20: Bank | C20: interest | D20: 42540 | E20: 0.54 | I20: 0.54
A21: 42570 | B21: Bank | C21: interest | D21: 42541 | E21: 0.52 | I21: 0.52
A22: 42571 | B22: Doris Field Foundation | C22: grant | D22: 42573 | F22: 1000 | M22: 1000
A23: 42601 | B23: Bank | C23: interest | D23: 42541 | E23: 0.54 | I23: 0.54
A24: 42632 | B24: Bank | C24: interest | D24: 42541 | E24: 0.54 | I24: 0.54
A25: 42632 | B25: CDC | C25: precept | D25: 42632 | F25: 4050 | H25: 4050
A26: 42636 | B26: Greggs | C26: grant | D26: 42636 | F26: 2000 | M26: 2000
A27: 42662 | B27: Bank | C27: interest | D27: 42662 | E27: 0.35 | I27: 0.35
A28: 42693 | B28: Bank | C28: interest | D28: 42693 | E28: 0.31 | I28: 0.31
A29: 42723 | B29: Bank | C29: interest | D29: 42723 | E29: 0.3 | I29: 0.3
A30: 42754 | B30: Bank | C30: interest | D30: 42754 | E30: 0.31 | I30: 0.31
A31: 42755 | B31: HMRC | C31: VAT refund | D31: 42759 | F31: 1458.55 | T31: 1458.55
A32: 42785 | B32: Bank | C32: interest | D32: 42785 | E32: 0.31 | I32: 0.31
A33: 42788 | B33: Planning donations | D33: 42788 | F33: 450 | O33: 450 | X33: Nixon | Y33: 50
A34: 42788 | B34: donation | D34: 42788 | F34: 90 | Q34: 90 | V34: howard | X34: Elliott | Y34: 200
A35: 42788 | B35: Planning donations | D35: 42807 | F35: 100 | O35: 100 | X35: Clark | Y35: 100
A36: 42813 | B36: Bank | C36: interest | D36: 42813 | E36: 0.28 | I36: 0.28 | X36: Burchill | Y36: 100
A37: 42802 | B37: CDC | C37: new homes bonus | D37: 42802 | F37: 1316.5 | L37: 1316.5 | X37: sheppard | Y37: 100

Sheet Payments
A1: =Settings!J2 -> Piddington Parish Council | C1: Payments | F1: Budget: | H1: 2235 | I1: 200 | J1: 0 | K1: 100 | L1: 0 | M1: 0 | N1: 0 | O1: 150 | P1: 600 | Q1: 150 | R1: 35 | T1: 150 | U1: 100 | V1: 1300 | W1: 350 | Z1: 0 | AA1: 0 | AD1: 0 | AE1: 250 | AF1: 200 | AG1: 300 | AH1: 24 | AI1: 0 | AJ1: 64 | AK1: 0 | AL1: 500 | AM1: 0 | AN1: 6500
AT2: UB1443
A3: =Income!E3 -> 1st April 2016 to 31st March 2017 | H3: Analysis
C4: Running totals | F4: =SUM(F20:F999) -> 16938.11 | H4: =SUM(H20:H999) -> 2694.88 | I4: =SUM(I20:I999) -> 495.11 | J4: =SUM(J20:J999) -> 0 | K4: =SUM(K20:K999) -> 344 | L4: =SUM(L20:L999) -> 0 | M4: =SUM(M20:M999) -> 0 | N4: =SUM(N20:N999) -> 0 | O4: =SUM(O20:O999) -> 203 | ... AR4: =SUM(AR20:AR999) -> 0 | AT4: =SUM(AT20:AT999) -> 2042.55
C5: Aggregate totals | F5: =H5+L5 -> 16938.11 | H5: =SUM(H4:AS4) -> 14895.56 | I5: +vat | L5: =AT4 -> 2042.55
H7: Personnel | L7: Finance | N7: Admin | Q7: Fees & Subscriptions | V7: Maintenance | AF7: Grants | AG7: CLP | AH7: Communications | AL7: Miscellaneous | AM7: Projects
A8: Date | B8: Payee | C8: Details | D8: Cheque reference | E8: Bank statement | F8: Current account | H8: Salaries | I8: Clerks expenses | J8: Cllrs Travel Expenses | K8: Training | L8: Bank Interest | M8: Bank Charges | N8: Office / stationery | O8: Meeting room Hire | P8: Insurance | Q8: Audit | R8: Data Protection | S8: RoSPA Inspection | T8: Subscrip-tions | U8: Election | V8: Grass Cutting | W8: Dog bin collection | Y8: Other | Z8: Playground | AA8: Village Hall | AB8: Churchyard mowing | AC8: Jubilee Reserve | AD8: Sports Field | AE8: Allotments | AF8: Donations/S.137 | AG8: CLP | AH8: Website | AI8: Notice-board | AJ8: Parish Pump | AK8: Broadband | AL8: Misc-ellaneous | AM8: Defib-rillator | AN8: Resilience | AT8: VAT | AV8: VAT number
C10: Cheques not presented from prior year | G10: =IF(SUM(H10:AT10)-F10=0,"","x")
A12: 42416 | B12: D Kerwood | C12: allotment refund | D12: 100149 | E12: donation | F12: 30 | AE12: 30
A13: 42444 | B13: Piddington village hall | C13: hire | D13: 100157 | E13: 42576 | F13: 9 | O13: 9
C19: New matters
A21: 42461 | B21: Bucks waste Hire | C21: skip hire | D21: 100160 | E21: 42485 | F21: 174 | AE21: 145 | AT21: 29 | AV21: 822 5020 73
A22: 42479 | B22: F Darby | C22: retirement gift | D22: 100161 | E22: 42500 | F22: 60.95 | AL22: 60.95
A23: 42479 | B23: Mrs A Davies | C23: salary and expenses | D23: 100162 | E23: 42485 | F23: 234.57 | H23: 150.42 | I23: 84.15
A24: 42479 | B24: HMRC | C24: clerk tax | D24: 100163 | E24: 42485 | F24: 37.4 | H24: 37.4
A25: 42479 | B25: Oxforshire Community First | C25: subscription | D25: 100164 | E25: 42506 | F25: 55 | T25: 55
A26: 42479 | B26: PVH | C26: room hire | D26: 100165 | E26: 42493 | F26: 15 | O26: 15
A27: 42479 | B27: Mr M Phillips | C27: noticeboard repair | D27: 100166 | E27: 42486 | F27: 11.98 | AL27: 11.98
A28: 42507 | B28: Mrs A Davies | C28: refund skip hire | D28: 100167 | E28: 42510 | F28: 424 | I28: 40 | AA28: 175 | AE28: 145 | AT28: 64 | AV28: 822 5020 73
A29: 42507 | B29: Mrs A Davies | C29: salary and expenses | D29: 100168 | E29: 42510 | F29: 247.46 | H29: 181.96 | I29: 65.5
A30: 42507 | B30: Mrs A Davies | C30: clerk tax | D30: 100169 | E30: 42510 | F30: 45.6 | H30: 45.6
A31: 42507 | B31: PVH | C31: room hire | D31: 100170 | E31: 42510 | F31: 12 | O31: 12
A32: 42507 | B32: cancelled | C32: chairman's donation | D32: 100171 | E32: cancelled
A33: 42507 | B33: Bucks Law Plus | C33: legal costs | D33: 100172 | E33: 42523 | F33: 721.2 | AL33: 601 | AT33: 120.2 | AV33: 197855244
A34: 42507 | B34: Came and company | C34: insurance | D34: 100173 | E34: 42523 | F34: 382.1 | P34: 382.1
A35: 42507 | B35: cancelled | D35: 100174 | E35: cancelled
A36: 42542 | B36: M Rudge Tree Services | C36: churchyard grass | D36: 100175 | E36: 42549 | F36: 264 | V36: 220 | AT36: 44 | AV36: 154321536
A37: 42542 | B37: OALC | C37: subscription | D37: 100176 | E37: 42557 | F37: 133.07 | T37: 110.89 | AT37: 22.18 | AV37: 685644393
A38: 42542 | B38: A Lambourne | C38: Internal audit | D38: 100178 | E38: 42552 | F38: 19.28 | Q38: 19.28
A39: 42542 | B39: PVH | C39: room hire | D39: 100179 | E39: 42550 | F39: 30 | O39: 30
A40: 42542 | B40: M Rudge Tree Services | C40: churchyard grass | D40: 100177 | E40: 42549 | F40: 120 | V40: 100 | AT40: 20 | AV40: 154321536
A41: 42542 | B41: Mrs A Davies | C41: salary and expenses | D41: 100180 | E41: 42545 | F41: 215.77 | H41: 181.96 | I41: 33.81
A42: 42542 | B42: HMRC | C42: clerk tax | D42: 100181 | E42: 42545 | F42: 46 | H42: 46
A43: 42542 | B43: Mr M Phillips | C43: expenses | D43: 100182 | E43: 42570 | F43: 14.88 | AL43: 14.88
A44: 42542 | B44: cancelled | D44: 100183 | E44: cancelled
A45: 42542 | B45: cancelled | D45: 100184 | E45: cancelled
A46: 42542 | B46: cancelled | C46: replaced by 100195 | D46: 100185 | E46: cancelled | AV46: 685644393 | AX46: 56.00 claimed
A47: 42542 | B47: N Wallington | C47: grass | D47: 100186 | E47: 42565 | F47: 100 | V47: 100
A48: 42531 | B48: Information Commissioner | D48: d/d | E48: 42531 | F48: 35 | R48: 35
A49: 42570 | B49: PVH | C49: room hire | D49: 100187 | E49: 42583 | F49: 18 | O49: 18
...

Sheet Income
C1: =Settings!J2 -> Piddington Parish Council
B3: Income and Expenditure | E3: =Settings!J4&" to "&Settings!M4 -> 1st April 2016 to 31st March 2017
A5: Prior year
C6: INCOME
A8: =Prior!F8 -> 7739 | C8: Precept | H8: =Receipts!$H$4 -> 8100
A9: =Prior!F9 -> 5.16 | C9: Interest | H9: =Receipts!$I$4 -> 5.06
A10: =Prior!F10 -> 2640 | C10: Rental income | H10: =SUM(Receipts!J4:K4) -> 140
A11: =Prior!F11 -> 8253.02 | C11: Grants | H11: =SUM(Receipts!$L$4:N4) -> 4577.52
A12: =Prior!F12 -> 1075 | C12: Donations | H12: =SUM(Receipts!O4:P4) -> 735
A13: =Prior!F13 -> 738.5 | C13: CLP | H13: =Receipts!$Q$4 -> 90
A14: =Prior!F14 -> 130.76 | C14: Miscellaneous | H14: =Receipts!$R$4 -> 0
A15: =Prior!F15 -> __________ | H15: __________
A16: =Prior!F16 -> 20581.44 | C16: Total Income | H16: =SUM(H8:H15) -> 13647.58
C20: Less | D20: EXPENDITURE
A22: =Prior!D22 -> 2277.41 | C22: Clerk's wages | F22: =Payments!$H$4 -> 2694.88
A23: =Prior!D23 -> 150.83 | C23: Clerk's expenses | F23: =Payments!$I$4 -> 495.11
A24: =Prior!D24 -> 0 | C24: Bank Interest | F24: =Payments!$L$4 -> 0
A25: =Prior!D25 -> 172.96 | C25: Other expenses | F25: =SUM(Payments!J4:K4)+SUM(Payments!M4:O4) -> 547
A26: =Prior!D26 -> 509.53 | C26: Insurance | F26: =Payments!$P$4 -> 382.1
A27: =Prior!D27 -> 305.17 | C27: Fees and subscriptions | F27: =SUM(Payments!Q4:U4) -> 407.63
A28: =Prior!D28 -> 491.12 | C28: Highway and footpaths | F28: =SUM(Payments!V4:Y4) -> 3135.24
A29: =Prior!D29 -> 785.96 | C29: Land & amenities | F29: =SUM(Payments!Z4:AE4) -> 3655
A30: =Prior!D30 -> 150 | C30: Grants & Donations | F30: =Payments!$AF$4 -> 0
A31: =Prior!D31 -> 236.55 | C31: CLP | F31: =Payments!$AG$4 -> 526
A32: =Prior!D32 -> 0 | C32: Communications | F32: =SUM(Payments!AH4:AK4) -> 0
A33: =Prior!D33 -> 1309.88 | C33: Miscellaneous | F33: =SUM(Payments!AL4:AR4) -> 3052.6
F34: __________
A35: =Prior!F35 -> 6389.41 | C35: Total Expenditure | H35: =SUM(F22:F34) -> 14895.56
A36: =Prior!F36 -> __________ | H36: __________
A38: =Prior!F38 -> 14192.03 | C38: Excess of Income over Expenditure | H38: =H16-H35 -> -1247.98

Sheet Balance
C1: =Settings!J2 -> Piddington Parish Council
C3: Balance sheet | E3: =Cash!$B$29 -> 31st March 2017
A5: Prior year
C6: CURRENT ASSETS
A8: =Prior!O8 -> 1310.99 | C8: Sundry Debtors | G8: =Notes!$F$21 -> 584
A9: =Prior!O9 -> 9008.27 | C9: Savings Account | G9: =Cash!$D$29 -> 9013.33
A10: =Prior!O10 -> 17425.96 | C10: Current Account | G10: =Cash!$E$29-Cash!$E$20-Cash!$E$21 -> 16899.91
A11: =Prior!O11 -> __________ | G11: __________
A12: =Prior!O12 -> 27745.22 | G12: =SUM(G8:G11) -> 26497.24
C14: Less | D14: CURRENT LIABILITIES
A16: =Prior!O16 -> 0 | C16: Sundry Creditors | E16: =Notes!$F$40 -> 0 | G16: =E16 -> 0
A17: =Prior!O17 -> __________ | E17: __________ | G17: __________
A19: =Prior!O19 -> 27745.22 | C19: TOTAL NET ASSETS | G19: =G12-G16 -> 26497.24
A20: =Prior!O20 -> __________ | G20: __________
C23: Represented by:
A25: =Prior!O25 -> 13553.19 | C25: ="Balance at "&(Cash!$B$12) -> Balance at 31st March 2016 | G25: =A29 -> 27745.22
A26: =Prior!O26 -> 14192.03 | C26: Excess of Income over Expenditure | G26: =Income!$H$38 -> -1247.98
A29: =Prior!O29 -> 27745.22 | G29: =SUM(G25:G28) -> 26497.24
A30: __________ | G30: __________
C34: The above statement represents fairly the financial position of the authority
C35: ="as at "&(E3)&" and reflects its income and expenditure during the year " -> as at 31st March 2017 and reflects its income and expenditure during the year
C39: Approved by the Parish Council on
C46: Chairman | F46: Responsible Financial Officer

Sheet Notes
E1: Notes on Balance sheet
E2: =Balance!$E$3 -> 31st March 2017
A4: Investments
B5: The council has no investments.
B6: Cash reserves are held in the Community Account at HSBC Bank
A8: Long term debtors ( more than 1 year)
B9: None
A11: Stocks and stores
B12: None
A14: ="Debtors at "&(E2) -> Debtors at 31st March 2017
B15: (i) Current
C19: VAT refund | E19: =Cash!B16 -> 2016/17 | F19: =Payments!L5-Receipts!T4+Receipts!T13 -> 584
F21: =SUM(F16:F20) -> 584
A24: Payments in advance
B25: None
A27: Temporary Lendings
B28: None
A30: Cash
B32: Bank | D32: See statements
A34: ="Creditors at "&(E2) -> Creditors at 31st March 2017
F40: =SUM(E35:E39) -> 0
A42: Temporary Borrowing | D42: None | E42: 0
B43: (Prior year: | D43: None) | E43: 0
A46: Reserves
B47: A grant of £5829 from SSE has been set aside for improving resilience
A49: Assets | B49: at | C49: =Settings!M4 -> 31st March 2017
B51: See separate asset register
A54: Capital Reserve
B55: The closing balance consists only of the cash held in the accounts at HSBC Bank as shown
B56: Capital Reserve | F56: 0
B57: General Balance | F57: =SUM(Cash!$D$29:$E$29)-F56 -> 25933.24
B58: Items purchased from Capital Reserve
C59: None
A61: Tenancies granted
A65: s137 Payments
B66: There were | D66: xxxx | E66: electors on the roll.
B67: The limit for spending under s137 of the Local Government Act 1972 for the council for the year
B68: at | C68: 7.42 | D68: per elector was | F68: =C68*D66 -> #VALUE!
B69: Payments made were:
D70: None
...

Sheet Audit
A1: Entries on Audit form for year ending | D1: =Settings!M4 -> 31st March 2017
C5: Prior year | D5: Current year
A7: Balance brought forward | C7: =Prior!Q7 -> 13553.19 | D7: =Balance!G25 -> 27745.22
A9: Precept | C9: =Prior!Q9 -> 7739 | D9: =Income!H8 -> 8100
A11: Other Income | C11: =Prior!Q11 -> 12842.44 | D11: =Income!H16-Audit!D9+0.25 -> 5547.83
A13: Staff Costs | C13: =Prior!Q13 -> 2277.41 | D13: =Income!F22 -> 2694.88
A15: Interest and repayments | C15: =Prior!Q15 -> 0 | D15: =Income!F24 -> 0
A17: Other Expenditure | C17: =Prior!Q17 -> 4112 | D17: =Income!H35-Audit!D15-Audit!D13 -> 12200.68
A19: Balance carried forward | C19: =Prior!Q19 -> 27745.22 | D19: =Balance!G29 -> 26497.24
C21: =Prior!Q21 -> 0 | D21: =ROUND(D7,0)+ROUND(D9,0)+ROUND(D11,0)-ROUND(D13,0)-ROUND(D15,0)-ROUND(D17,0)-ROUND(D19,0) -> 0 | F21: Check: Error if not 0
F22: 1 indicates rounding error
A23: Total cash & investments | C23: =Prior!Q23 -> 26434.23 | D23: =SUM(Cash!D29:E29)-Cash!E21 -> 25913.24
A25: Total fixed and long-term assets | C25: =Prior!Q25 -> 19709.42 | D25: 20755.47
A27: Total Borrowings | C27: =Prior!Q27 -> 0 | D27: =Notes!E42 -> 0

Sheet Worksheet
B1: Payments | J1: =COUNT(M:M)-1 -> 1 | K1: Payments not cleared | M1: 0 | O1: =COUNT(R:R)-1 -> 0 | P1: Receipts not cleared | R1: 0
B2: =IF(ISNA(MATCH(Settings!$C$9-1,Payments!A20:A800,1)),1,MATCH(Settings!$C$9-1,Payments!A20:A800,1)) -> 77 | C2: {=OFFSET(Payments!A20,Worksheet!B2,0,30,6)} -> 42815 | D2: PVH | E2: room hire | F2: 100235 | G2: 0 | H2: 20 | K2: =IF(AND(ISBLANK(Payments!A11),ISBLANK(Payments!B11),ISBLANK(Payments!F11)),TRUE,IF(ISBLANK(Payments!E11),FALSE,TRUE)) -> TRUE | L2: =L1+M1 -> 0 | M2: =MATCH(FALSE,OFFSET($K$1,L2,0,999,1),0) -> 88 | N2: =IF(ISNA(L2),0,OFFSET(Payments!$A$11,Worksheet!$L2-2,5)) -> 0 | P2: =IF(AND(ISBLANK(Receipts!A10),ISBLANK(Receipts!B10),ISBLANK(Receipts!E10),ISBLANK(Receipts!F10)),TRUE,IF(ISBLANK(Receipts!D10),FALSE,TRUE)) -> TRUE | Q2: =Q1+R1 -> 0 | R2: =MATCH(FALSE,OFFSET($P$1,Q2,0,999,1),0) -> #N/A | S2: =IF(ISNA(Q2),0,SUM(OFFSET(Receipts!$A$10,Worksheet!$Q2-2,4,1,2))) -> 0 | U2: {=IF(ISNA(M2),"",OFFSET(Payments!$A$11,Worksheet!L3-2,0,1,6))} -> 42815 | V2: PVH | W2: room hire | X2: 100235 | Y2: 0 | Z2: 20 | AB2: {=IF(ISNA(R2),"",OFFSET(Receipts!$A$10,Worksheet!Q3-2,0,1,6))}
C3: 42815 | D3: HMRC | E3: Cl tax | F3: 100236 | G3: 42818 | H3: 46 | K3: =IF(AND(ISBLANK(Payments!A12),ISBLANK(Payments!B12),ISBLANK(Payments!F12)),TRUE,IF(ISBLANK(Payments!E12),FALSE,TRUE)) -> TRUE | L3: =L2+M2 -> 88 | M3: =MATCH(FALSE,OFFSET($K$1,L3,0,999,1),0) -> #N/A | N3: =IF(ISNA(L3),0,OFFSET(Payments!$A$11,Worksheet!$L3-2,5)) -> 20 | P3: =IF(AND(ISBLANK(Receipts!A11),ISBLANK(Receipts!B11),ISBLANK(Receipts!E11),ISBLANK(Receipts!F11)),TRUE,IF(ISBLANK(Receipts!D11),FALSE,TRUE)) -> TRUE | Q3: =Q2+R2 -> #N/A | R3: =MATCH(FALSE,OFFSET($P$1,Q3,0,999,1),0) -> #N/A | S3: =IF(ISNA(Q3),0,SUM(OFFSET(Receipts!$A$10,Worksheet!$Q3-2,4,1,2))) -> 0 | U3: {=IF(ISNA(M3),"",OFFSET(Payments!$A$11,Worksheet!L4-2,0,1,6))} | AB3: {=IF(ISNA(R3),"",OFFSET(Receipts!$A$10,Worksheet!Q4-2,0,1,6))}
C4: 42815 | D4: Mrs A Davies | E4: salary and expenses | F4: 100237 | G4: 42818 | H4: 230.6 | K4: =IF(AND(ISBLANK(Payments!A13),ISBLANK(Payments!B13),ISBLANK(Payments!F13)),TRUE,IF(ISBLANK(Payments!E13),FALSE,TRUE)) -> TRUE | L4: =L3+M3 -> #N/A | M4: =MATCH(FALSE,OFFSET($K$1,L4,0,999,1),0) -> #N/A | N4: =IF(ISNA(L4),0,OFFSET(Payments!$A$11,Worksheet!$L4-2,5)) -> 0 | P4: =IF(AND(ISBLANK(Receipts!A12),ISBLANK(Receipts!B12),ISBLANK(Receipts!E12),ISBLANK(Receipts!F12)),TRUE,IF(ISBLANK(Receipts!D12),FALSE,TRUE)) -> TRUE | Q4: =Q3+R3 -> #N/A | R4: =MATCH(FALSE,OFFSET($P$1,Q4,0,999,1),0) -> #N/A | S4: =IF(ISNA(Q4),0,SUM(OFFSET(Receipts!$A$10,Worksheet!$Q4-2,4,1,2))) -> 0 | U4: {=IF(ISNA(M4),"",OFFSET(Payments!$A$11,Worksheet!L5-2,0,1,6))} | AB4: {=IF(ISNA(R4),"",OFFSET(Receipts!$A$10,Worksheet!Q5-2,0,1,6))}
C5: 42815 | D5: M Rudge Tree Services | E5: clearing | F5: 100238 | G5: 42457 | H5: 960 | K5: =IF(AND(ISBLANK(Payments!A14),ISBLANK(Payments!B14),ISBLANK(Payments!F14)),TRUE,IF(ISBLANK(Payments!E14),FALSE,TRUE)) -> TRUE | L5: =L4+M4 -> #N/A | M5: =MATCH(FALSE,OFFSET($K$1,L5,0,999,1),0) -> #N/A | N5: =IF(ISNA(L5),0,OFFSET(Payments!$A$11,Worksheet!$L5-2,5)) -> 0 | P5: =IF(AND(ISBLANK(Receipts!A13),ISBLANK(Receipts!B13),ISBLANK(Receipts!E13),ISBLANK(Receipts!F13)),TRUE,IF(ISBLANK(Receipts!D13),FALSE,TRUE)) -> TRUE | Q5: =Q4+R4 -> #N/A | R5: =MATCH(FALSE,OFFSET($P$1,Q5,0,999,1),0) -> #N/A | S5: =IF(ISNA(Q5),0,SUM(OFFSET(Receipts!$A$10,Worksheet!$Q5-2,4,1,2))) -> 0 | U5: {=IF(ISNA(M5),"",OFFSET(Payments!$A$11,Worksheet!L6-2,0,1,6))} | AB5: {=IF(ISNA(R5),"",OFFSET(Receipts!$A$10,Worksheet!Q6-2,0,1,6))}
C6: 0 | D6: 0 | E6: 0 | F6: 0 | G6: 0 | H6: 0 | K6: =IF(AND(ISBLANK(Payments!A15),ISBLANK(Payments!B15),ISBLANK(Payments!F15)),TRUE,IF(ISBLANK(Payments!E15),FALSE,TRUE)) -> TRUE | L6: =L5+M5 -> #N/A | M6: =MATCH(FALSE,OFFSET($K$1,L6,0,999,1),0) -> #N/A | N6: =IF(ISNA(L6),0,OFFSET(Payments!$A$11,Worksheet!$L6-2,5)) -> 0 | P6: =IF(AND(ISBLANK(Receipts!A14),ISBLANK(Receipts!B14),ISBLANK(Receipts!E14),ISBLANK(Receipts!F14)),TRUE,IF(ISBLANK(Receipts!D14),FALSE,TRUE)) -> TRUE | Q6: =Q5+R5 -> #N/A | R6: =MATCH(FALSE,OFFSET($P$1,Q6,0,999,1),0) -> #N/A | S6: =IF(ISNA(Q6),0,SUM(OFFSET(Receipts!$A$10,Worksheet!$Q6-2,4,1,2))) -> 0 | U6: {=IF(ISNA(M6),"",OFFSET(Payments!$A$11,Worksheet!L7-2,0,1,6))} | AB6: {=IF(ISNA(R6),"",OFFSET(Receipts!$A$10,Worksheet!Q7-2,0,1,6))}
C7: 0 | D7: 0 | E7: 0 | F7: 0 | G7: 0 | H7: 0 | K7: =IF(AND(ISBLANK(Payments!A16),ISBLANK(Payments!B16),ISBLANK(Payments!F16)),TRUE,IF(ISBLANK(Payments!E16),FALSE,TRUE)) -> TRUE | L7: =L6+M6 -> #N/A | M7: =MATCH(FALSE,OFFSET($K$1,L7,0,999,1),0) -> #N/A | N7: =IF(ISNA(L7),0,OFFSET(Payments!$A$11,Worksheet!$L7-2,5)) -> 0 | P7: =IF(AND(ISBLANK(Receipts!A15),ISBLANK(Receipts!B15),ISBLANK(Receipts!E15),ISBLANK(Receipts!F15)),TRUE,IF(ISBLANK(Receipts!D15),FALSE,TRUE)) -> TRUE | Q7: =Q6+R6 -> #N/A | R7: =MATCH(FALSE,OFFSET($P$1,Q7,0,999,1),0) -> #N/A | S7: =IF(ISNA(Q7),0,SUM(OFFSET(Receipts!$A$10,Worksheet!$Q7-2,4,1,2))) -> 0 | U7: {=IF(ISNA(M7),"",OFFSET(Payments!$A$11,Worksheet!L8-2,0,1,6))} | AB7: {=IF(ISNA(R7),"",OFFSET(Receipts!$A$10,Worksheet!Q8-2,0,1,6))}
C8: 0 | D8: 0 | E8: 0 | F8: 0 | G8: 0 | H8: 0 | K8: =IF(AND(ISBLANK(Payments!A17),ISBLANK(Payments!B17),ISBLANK(Payments!F17)),TRUE,IF(ISBLANK(Payments!E17),FALSE,TRUE)) -> TRUE | L8: =L7+M7 -> #N/A | M8: =MATCH(FALSE,OFFSET($K$1,L8,0,999,1),0) -> #N/A | N8: =IF(ISNA(L8),0,OFFSET(Payments!$A$11,Worksheet!$L8-2,5)) -> 0 | P8: =IF(AND(ISBLANK(Receipts!A16),ISBLANK(Receipts!B16),ISBLANK(Receipts!E16),ISBLANK(Receipts!F16)),TRUE,IF(ISBLANK(Receipts!D16),FALSE,TRUE)) -> TRUE | Q8: =Q7+R7 -> #N/A | R8: =MATCH(FALSE,OFFSET($P$1,Q8,0,999,1),0) -> #N/A | S8: =IF(ISNA(Q8),0,SUM(OFFSET(Receipts!$A$10,Worksheet!$Q8-2,4,1,2))) -> 0 | U8: {=IF(ISNA(M8),"",OFFSET(Payments!$A$11,Worksheet!L9-2,0,1,6))} | AB8: {=IF(ISNA(R8),"",OFFSET(Receipts!$A$10,Worksheet!Q9-2,0,1,6))}
C9: 0 | D9: 0 | E9: 0 | F9: 0 | G9: 0 | H9: 0 | K9: =IF(AND(ISBLANK(Payments!A18),ISBLANK(Payments!B18),ISBLANK(Payments!F18)),TRUE,IF(ISBLANK(Payments!E18),FALSE,TRUE)) -> TRUE | L9: =L8+M8 -> #N/A | M9: =MATCH(FALSE,OFFSET($K$1,L9,0,999,1),0) -> #N/A | N9: =IF(ISNA(L9),0,OFFSET(Payments!$A$11,Worksheet!$L9-2,5)) -> 0 | P9: =IF(AND(ISBLANK(Receipts!A17),ISBLANK(Receipts!B17),ISBLANK(Receipts!E17),ISBLANK(Receipts!F17)),TRUE,IF(ISBLANK(Receipts!D17),FALSE,TRUE)) -> TRUE | Q9: =Q8+R8 -> #N/A | R9: =MATCH(FALSE,OFFSET($P$1,Q9,0,999,1),0) -> #N/A | S9: =IF(ISNA(Q9),0,SUM(OFFSET(Receipts!$A$10,Worksheet!$Q9-2,4,1,2))) -> 0 | U9: {=IF(ISNA(M9),"",OFFSET(Payments!$A$11,Worksheet!L10-2,0,1,6))} | AB9: {=IF(ISNA(R9),"",OFFSET(Receipts!$A$10,Worksheet!Q10-2,0,1,6))}
C10: 0 | D10: 0 | E10: 0 | F10: 0 | G10: 0 | H10: 0 | K10: =IF(AND(ISBLANK(Payments!A19),ISBLANK(Payments!B19),ISBLANK(Payments!F19)),TRUE,IF(ISBLANK(Payments!E19),FALSE,TRUE)) -> TRUE | L10: =L9+M9 -> #N/A | M10: =MATCH(FALSE,OFFSET($K$1,L10,0,999,1),0) -> #N/A | N10: =IF(ISNA(L10),0,OFFSET(Payments!$A$11,Worksheet!$L10-2,5)) -> 0 | P10: =IF(AND(ISBLANK(Receipts!A18),ISBLANK(Receipts!B18),ISBLANK(Receipts!E18),ISBLANK(Receipts!F18)),TRUE,IF(ISBLANK(Receipts!D18),FALSE,TRUE)) -> TRUE | Q10: =Q9+R9 -> #N/A | R10: =MATCH(FALSE,OFFSET($P$1,Q10,0,999,1),0) -> #N/A | S10: =IF(ISNA(Q10),0,SUM(OFFSET(Receipts!$A$10,Worksheet!$Q10-2,4,1,2))) -> 0 | U10: {=IF(ISNA(M10),"",OFFSET(Payments!$A$11,Worksheet!L11-2,0,1,6))} | AB10: {=IF(ISNA(R10),"",OFFSET(Receipts!$A$10,Worksheet!Q11-2,0,1,6))}
C11: 0 | D11: 0 | E11: 0 | F11: 0 | G11: 0 | H11: 0 | K11: =IF(AND(ISBLANK(Payments!A20),ISBLANK(Payments!B20),ISBLANK(Payments!F20)),TRUE,IF(ISBLANK(Payments!E20),FALSE,TRUE)) -> TRUE | L11: =L10+M10 -> #N/A | M11: =MATCH(FALSE,OFFSET($K$1,L11,0,999,1),0) -> #N/A | N11: =IF(ISNA(L11),0,OFFSET(Payments!$A$11,Worksheet!$L11-2,5)) -> 0 | P11: =IF(AND(ISBLANK(Receipts!A19),ISBLANK(Receipts!B19),ISBLANK(Receipts!E19),ISBLANK(Receipts!F19)),TRUE,IF(ISBLANK(Receipts!D19),FALSE,TRUE)) -> TRUE | Q11: =Q10+R10 -> #N/A | R11: =MATCH(FALSE,OFFSET($P$1,Q11,0,999,1),0) -> #N/A | S11: =IF(ISNA(Q11),0,SUM(OFFSET(Receipts!$A$10,Worksheet!$Q11-2,4,1,2))) -> 0 | U11: {=IF(ISNA(M11),"",OFFSET(Payments!$A$11,Worksheet!L12-2,0,1,6))} | AB11: {=IF(ISNA(R11),"",OFFSET(Receipts!$A$10,Worksheet!Q12-2,0,1,6))}
C12: 0 | D12: 0 | E12: 0 | F12: 0 | G12: 0 | H12: 0 | K12: =IF(AND(ISBLANK(Payments!A21),ISBLANK(Payments!B21),ISBLANK(Payments!F21)),TRUE,IF(ISBLANK(Payments!E21),FALSE,TRUE)) -> TRUE | L12: =L11+M11 -> #N/A | M12: =MATCH(FALSE,OFFSET($K$1,L12,0,999,1),0) -> #N/A | N12: =IF(ISNA(L12),0,OFFSET(Payments!$A$11,Worksheet!$L12-2,5)) -> 0 | P12: =IF(AND(ISBLANK(Receipts!A20),ISBLANK(Receipts!B20),ISBLANK(Receipts!E20),ISBLANK(Receipts!F20)),TRUE,IF(ISBLANK(Receipts!D20),FALSE,TRUE)) -> TRUE | Q12: =Q11+R11 -> #N/A | R12: =MATCH(FALSE,OFFSET($P$1,Q12,0,999,1),0) -> #N/A | S12: =IF(ISNA(Q12),0,SUM(OFFSET(Receipts!$A$10,Worksheet!$Q12-2,4,1,2))) -> 0 | U12: {=IF(ISNA(M12),"",OFFSET(Payments!$A$11,Worksheet!L13-2,0,1,6))} | AB12: {=IF(ISNA(R12),"",OFFSET(Receipts!$A$10,Worksheet!Q13-2,0,1,6))}
C13: 0 | D13: 0 | E13: 0 | F13: 0 | G13: 0 | H13: 0 | K13: =IF(AND(ISBLANK(Payments!A22),ISBLANK(Payments!B22),ISBLANK(Payments!F22)),TRUE,IF(ISBLANK(Payments!E22),FALSE,TRUE)) -> TRUE | L13: =L12+M12 -> #N/A | M13: =MATCH(FALSE,OFFSET($K$1,L13,0,999,1),0) -> #N/A | N13: =IF(ISNA(L13),0,OFFSET(Payments!$A$11,Worksheet!$L13-2,5)) -> 0 | P13: =IF(AND(ISBLANK(Receipts!A21),ISBLANK(Receipts!B21),ISBLANK(Receipts!E21),ISBLANK(Receipts!F21)),TRUE,IF(ISBLANK(Receipts!D21),FALSE,TRUE)) -> TRUE | Q13: =Q12+R12 -> #N/A | R13: =MATCH(FALSE,OFFSET($P$1,Q13,0,999,1),0) -> #N/A | S13: =IF(ISNA(Q13),0,SUM(OFFSET(Receipts!$A$10,Worksheet!$Q13-2,4,1,2))) -> 0 | U13: {=IF(ISNA(M13),"",OFFSET(Payments!$A$11,Worksheet!L14-2,0,1,6))} | AB13: {=IF(ISNA(R13),"",OFFSET(Receipts!$A$10,Worksheet!Q14-2,0,1,6))}
B14: Summarize | C14: 0 | D14: 0 | E14: 0 | F14: 0 | G14: 0 | H14: 0 | K14: =IF(AND(ISBLANK(Payments!A23),ISBLANK(Payments!B23),ISBLANK(Payments!F23)),TRUE,IF(ISBLANK(Payments!E23),FALSE,TRUE)) -> TRUE | L14: =L13+M13 -> #N/A | M14: =MATCH(FALSE,OFFSET($K$1,L14,0,999,1),0) -> #N/A | N14: =IF(ISNA(L14),0,OFFSET(Payments!$A$11,Worksheet!$L14-2,5)) -> 0 | P14: =IF(AND(ISBLANK(Receipts!A22),ISBLANK(Receipts!B22),ISBLANK(Receipts!E22),ISBLANK(Receipts!F22)),TRUE,IF(ISBLANK(Receipts!D22),FALSE,TRUE)) -> TRUE | Q14: =Q13+R13 -> #N/A | R14: =MATCH(FALSE,OFFSET($P$1,Q14,0,999,1),0) -> #N/A | S14: =IF(ISNA(Q14),0,SUM(OFFSET(Receipts!$A$10,Worksheet!$Q14-2,4,1,2))) -> 0 | U14: {=IF(ISNA(M14),"",OFFSET(Payments!$A$11,Worksheet!L15-2,0,1,6))} | AB14: {=IF(ISNA(R14),"",OFFSET(Receipts!$A$10,Worksheet!Q15-2,0,1,6))}
C15: 0 | D15: 0 | E15: 0 | F15: 0 | G15: 0 | H15: 0 | K15: =IF(AND(ISBLANK(Payments!A24),ISBLANK(Payments!B24),ISBLANK(Payments!F24)),TRUE,IF(ISBLANK(Payments!E24),FALSE,TRUE)) -> TRUE | L15: =L14+M14 -> #N/A | M15: =MATCH(FALSE,OFFSET($K$1,L15,0,999,1),0) -> #N/A | N15: =IF(ISNA(L15),0,OFFSET(Payments!$A$11,Worksheet!$L15-2,5)) -> 0 | P15: =IF(AND(ISBLANK(Receipts!A23),ISBLANK(Receipts!B23),ISBLANK(Receipts!E23),ISBLANK(Receipts!F23)),TRUE,IF(ISBLANK(Receipts!D23),FALSE,TRUE)) -> TRUE | Q15: =Q14+R14 -> #N/A | R15: =MATCH(FALSE,OFFSET($P$1,Q15,0,999,1),0) -> #N/A | S15: =IF(ISNA(Q15),0,SUM(OFFSET(Receipts!$A$10,Worksheet!$Q15-2,4,1,2))) -> 0 | U15: {=IF(ISNA(M15),"",OFFSET(Payments!$A$11,Worksheet!L16-2,0,1,6))} | AB15: {=IF(ISNA(R15),"",OFFSET(Receipts!$A$10,Worksheet!Q16-2,0,1,6))}
C16: 0 | D16: 0 | E16: 0 | F16: 0 | G16: 0 | H16: 0 | K16: =IF(AND(ISBLANK(Payments!A25),ISBLANK(Payments!B25),ISBLANK(Payments!F25)),TRUE,IF(ISBLANK(Payments!E25),FALSE,TRUE)) -> TRUE | L16: =L15+M15 -> #N/A | M16: =MATCH(FALSE,OFFSET($K$1,L16,0,999,1),0) -> #N/A | N16: =IF(ISNA(L16),0,OFFSET(Payments!$A$11,Worksheet!$L16-2,5)) -> 0 | P16: =IF(AND(ISBLANK(Receipts!A24),ISBLANK(Receipts!B24),ISBLANK(Receipts!E24),ISBLANK(Receipts!F24)),TRUE,IF(ISBLANK(Receipts!D24),FALSE,TRUE)) -> TRUE | Q16: =Q15+R15 -> #N/A | R16: =MATCH(FALSE,OFFSET($P$1,Q16,0,999,1),0) -> #N/A | S16: =IF(ISNA(Q16),0,SUM(OFFSET(Receipts!$A$10,Worksheet!$Q16-2,4,1,2))) -> 0 | U16: {=IF(ISNA(M16),"",OFFSET(Payments!$A$11,Worksheet!L17-2,0,1,6))} | AB16: {=IF(ISNA(R16),"",OFFSET(Receipts!$A$10,Worksheet!Q17-2,0,1,6))}
C17: 0 | D17: 0 | E17: 0 | F17: 0 | G17: 0 | H17: 0 | K17: =IF(AND(ISBLANK(Payments!A26),ISBLANK(Payments!B26),ISBLANK(Payments!F26)),TRUE,IF(ISBLANK(Payments!E26),FALSE,TRUE)) -> TRUE | L17: =L16+M16 -> #N/A | M17: =MATCH(FALSE,OFFSET($K$1,L17,0,999,1),0) -> #N/A | N17: =IF(ISNA(L17),0,OFFSET(Payments!$A$11,Worksheet!$L17-2,5)) -> 0 | P17: =IF(AND(ISBLANK(Receipts!A25),ISBLANK(Receipts!B25),ISBLANK(Receipts!E25),ISBLANK(Receipts!F25)),TRUE,IF(ISBLANK(Receipts!D25),FALSE,TRUE)) -> TRUE | Q17: =Q16+R16 -> #N/A | R17: =MATCH(FALSE,OFFSET($P$1,Q17,0,999,1),0) -> #N/A | S17: =IF(ISNA(Q17),0,SUM(OFFSET(Receipts!$A$10,Worksheet!$Q17-2,4,1,2))) -> 0 | U17: {=IF(ISNA(M17),"",OFFSET(Payments!$A$11,Worksheet!L18-2,0,1,6))} | AB17: {=IF(ISNA(R17),"",OFFSET(Receipts!$A$10,Worksheet!Q18-2,0,1,6))}
C18: 0 | D18: 0 | E18: 0 | F18: 0 | G18: 0 | H18: 0 | K18: =IF(AND(ISBLANK(Payments!A27),ISBLANK(Payments!B27),ISBLANK(Payments!F27)),TRUE,IF(ISBLANK(Payments!E27),FALSE,TRUE)) -> TRUE | L18: =L17+M17 -> #N/A | M18: =MATCH(FALSE,OFFSET($K$1,L18,0,999,1),0) -> #N/A | N18: =IF(ISNA(L18),0,OFFSET(Payments!$A$11,Worksheet!$L18-2,5)) -> 0 | P18: =IF(AND(ISBLANK(Receipts!A26),ISBLANK(Receipts!B26),ISBLANK(Receipts!E26),ISBLANK(Receipts!F26)),TRUE,IF(ISBLANK(Receipts!D26),FALSE,TRUE)) -> TRUE | Q18: =Q17+R17 -> #N/A | R18: =MATCH(FALSE,OFFSET($P$1,Q18,0,999,1),0) -> #N/A | S18: =IF(ISNA(Q18),0,SUM(OFFSET(Receipts!$A$10,Worksheet!$Q18-2,4,1,2))) -> 0 | U18: {=IF(ISNA(M18),"",OFFSET(Payments!$A$11,Worksheet!L19-2,0,1,6))} | AB18: {=IF(ISNA(R18),"",OFFSET(Receipts!$A$10,Worksheet!Q19-2,0,1,6))}
C19: 0 | D19: 0 | E19: 0 | F19: 0 | G19: 0 | H19: 0 | K19: =IF(AND(ISBLANK(Payments!A28),ISBLANK(Payments!B28),ISBLANK(Payments!F28)),TRUE,IF(ISBLANK(Payments!E28),FALSE,TRUE)) -> TRUE | L19: =L18+M18 -> #N/A | M19: =MATCH(FALSE,OFFSET($K$1,L19,0,999,1),0) -> #N/A | N19: =IF(ISNA(L19),0,OFFSET(Payments!$A$11,Worksheet!$L19-2,5)) -> 0 | P19: =IF(AND(ISBLANK(Receipts!A27),ISBLANK(Receipts!B27),ISBLANK(Receipts!E27),ISBLANK(Receipts!F27)),TRUE,IF(ISBLANK(Receipts!D27),FALSE,TRUE)) -> TRUE | Q19: =Q18+R18 -> #N/A | R19: =MATCH(FALSE,OFFSET($P$1,Q19,0,999,1),0) -> #N/A | S19: =IF(ISNA(Q19),0,SUM(OFFSET(Receipts!$A$10,Worksheet!$Q19-2,4,1,2))) -> 0 | U19: {=IF(ISNA(M19),"",OFFSET(Payments!$A$11,Worksheet!L20-2,0,1,6))} | AB19: {=IF(ISNA(R19),"",OFFSET(Receipts!$A$10,Worksheet!Q20-2,0,1,6))}
C20: 0 | D20: 0 | E20: 0 | F20: 0 | G20: 0 | H20: 0 | K20: =IF(AND(ISBLANK(Payments!A29),ISBLANK(Payments!B29),ISBLANK(Payments!F29)),TRUE,IF(ISBLANK(Payments!E29),FALSE,TRUE)) -> TRUE | L20: =L19+M19 -> #N/A | M20: =MATCH(FALSE,OFFSET($K$1,L20,0,999,1),0) -> #N/A | N20: =IF(ISNA(L20),0,OFFSET(Payments!$A$11,Worksheet!$L20-2,5)) -> 0 | P20: =IF(AND(ISBLANK(Receipts!A28),ISBLANK(Receipts!B28),ISBLANK(Receipts!E28),ISBLANK(Receipts!F28)),TRUE,IF(ISBLANK(Receipts!D28),FALSE,TRUE)) -> TRUE | Q20: =Q19+R19 -> #N/A | R20: =MATCH(FALSE,OFFSET($P$1,Q20,0,999,1),0) -> #N/A | S20: =IF(ISNA(Q20),0,SUM(OFFSET(Receipts!$A$10,Worksheet!$Q20-2,4,1,2))) -> 0 | U20: {=IF(ISNA(M20),"",OFFSET(Payments!$A$11,Worksheet!L21-2,0,1,6))} | AB20: {=IF(ISNA(R20),"",OFFSET(Receipts!$A$10,Worksheet!Q21-2,0,1,6))}
C21: 0 | D21: 0 | E21: 0 | F21: 0 | G21: 0 | H21: 0 | K21: =IF(AND(ISBLANK(Payments!A30),ISBLANK(Payments!B30),ISBLANK(Payments!F30)),TRUE,IF(ISBLANK(Payments!E30),FALSE,TRUE)) -> TRUE | L21: =L20+M20 -> #N/A | M21: =MATCH(FALSE,OFFSET($K$1,L21,0,999,1),0) -> #N/A | N21: =IF(ISNA(L21),0,OFFSET(Payments!$A$11,Worksheet!$L21-2,5)) -> 0 | P21: =IF(AND(ISBLANK(Receipts!A29),ISBLANK(Receipts!B29),ISBLANK(Receipts!E29),ISBLANK(Receipts!F29)),TRUE,IF(ISBLANK(Receipts!D29),FALSE,TRUE)) -> TRUE | Q21: =Q20+R20 -> #N/A | R21: =MATCH(FALSE,OFFSET($P$1,Q21,0,999,1),0) -> #N/A | S21: =IF(ISNA(Q21),0,SUM(OFFSET(Receipts!$A$10,Worksheet!$Q21-2,4,1,2))) -> 0 | U21: {=IF(ISNA(M21),"",OFFSET(Payments!$A$11,Worksheet!L22-2,0,1,6))} | AB21: {=IF(ISNA(R21),"",OFFSET(Receipts!$A$10,Worksheet!Q22-2,0,1,6))}
C22: 0 | D22: 0 | E22: 0 | F22: 0 | G22: 0 | H22: 0 | K22: =IF(AND(ISBLANK(Payments!A31),ISBLANK(Payments!B31),ISBLANK(Payments!F31)),TRUE,IF(ISBLANK(Payments!E31),FALSE,TRUE)) -> TRUE | L22: =L21+M21 -> #N/A | M22: =MATCH(FALSE,OFFSET($K$1,L22,0,999,1),0) -> #N/A | N22: =IF(ISNA(L22),0,OFFSET(Payments!$A$11,Worksheet!$L22-2,5)) -> 0 | P22: =IF(AND(ISBLANK(Receipts!A30),ISBLANK(Receipts!B30),ISBLANK(Receipts!E30),ISBLANK(Receipts!F30)),TRUE,IF(ISBLANK(Receipts!D30),FALSE,TRUE)) -> TRUE | Q22: =Q21+R21 -> #N/A | R22: =MATCH(FALSE,OFFSET($P$1,Q22,0,999,1),0) -> #N/A | S22: =IF(ISNA(Q22),0,SUM(OFFSET(Receipts!$A$10,Worksheet!$Q22-2,4,1,2))) -> 0 | U22: {=IF(ISNA(M22),"",OFFSET(Payments!$A$11,Worksheet!L23-2,0,1,6))} | AB22: {=IF(ISNA(R22),"",OFFSET(Receipts!$A$10,Worksheet!Q23-2,0,1,6))}
C23: 0 | D23: 0 | E23: 0 | F23: 0 | G23: 0 | H23: 0 | K23: =IF(AND(ISBLANK(Payments!A32),ISBLANK(Payments!B32),ISBLANK(Payments!F32)),TRUE,IF(ISBLANK(Payments!E32),FALSE,TRUE)) -> TRUE | L23: =L22+M22 -> #N/A | M23: =MATCH(FALSE,OFFSET($K$1,L23,0,999,1),0) -> #N/A | N23: =IF(ISNA(L23),0,OFFSET(Payments!$A$11,Worksheet!$L23-2,5)) -> 0 | P23: =IF(AND(ISBLANK(Receipts!A31),ISBLANK(Receipts!B31),ISBLANK(Receipts!E31),ISBLANK(Receipts!F31)),TRUE,IF(ISBLANK(Receipts!D31),FALSE,TRUE)) -> TRUE | Q23: =Q22+R22 -> #N/A | R23: =MATCH(FALSE,OFFSET($P$1,Q23,0,999,1),0) -> #N/A | S23: =IF(ISNA(Q23),0,SUM(OFFSET(Receipts!$A$10,Worksheet!$Q23-2,4,1,2))) -> 0 | U23: {=IF(ISNA(M23),"",OFFSET(Payments!$A$11,Worksheet!L24-2,0,1,6))} | AB23: {=IF(ISNA(R23),"",OFFSET(Receipts!$A$10,Worksheet!Q24-2,0,1,6))}
C24: 0 | D24: 0 | E24: 0 | F24: 0 | G24: 0 | H24: 0 | K24: =IF(AND(ISBLANK(Payments!A33),ISBLANK(Payments!B33),ISBLANK(Payments!F33)),TRUE,IF(ISBLANK(Payments!E33),FALSE,TRUE)) -> TRUE | L24: =L23+M23 -> #N/A | M24: =MATCH(FALSE,OFFSET($K$1,L24,0,999,1),0) -> #N/A | N24: =IF(ISNA(L24),0,OFFSET(Payments!$A$11,Worksheet!$L24-2,5)) -> 0 | P24: =IF(AND(ISBLANK(Receipts!A32),ISBLANK(Receipts!B32),ISBLANK(Receipts!E32),ISBLANK(Receipts!F32)),TRUE,IF(ISBLANK(Receipts!D32),FALSE,TRUE)) -> TRUE | Q24: =Q23+R23 -> #N/A | R24: =MATCH(FALSE,OFFSET($P$1,Q24,0,999,1),0) -> #N/A | S24: =IF(ISNA(Q24),0,SUM(OFFSET(Receipts!$A$10,Worksheet!$Q24-2,4,1,2))) -> 0 | U24: {=IF(ISNA(M24),"",OFFSET(Payments!$A$11,Worksheet!L25-2,0,1,6))} | AB24: {=IF(ISNA(R24),"",OFFSET(Receipts!$A$10,Worksheet!Q25-2,0,1,6))}
C25: 0 | D25: 0 | E25: 0 | F25: 0 | G25: 0 | H25: 0 | K25: =IF(AND(ISBLANK(Payments!A34),ISBLANK(Payments!B34),ISBLANK(Payments!F34)),TRUE,IF(ISBLANK(Payments!E34),FALSE,TRUE)) -> TRUE | L25: =L24+M24 -> #N/A | M25: =MATCH(FALSE,OFFSET($K$1,L25,0,999,1),0) -> #N/A | N25: =IF(ISNA(L25),0,OFFSET(Payments!$A$11,Worksheet!$L25-2,5)) -> 0 | P25: =IF(AND(ISBLANK(Receipts!A33),ISBLANK(Receipts!B33),ISBLANK(Receipts!E33),ISBLANK(Receipts!F33)),TRUE,IF(ISBLANK(Receipts!D33),FALSE,TRUE)) -> TRUE | Q25: =Q24+R24 -> #N/A | R25: =MATCH(FALSE,OFFSET($P$1,Q25,0,999,1),0) -> #N/A | S25: =IF(ISNA(Q25),0,SUM(OFFSET(Receipts!$A$10,Worksheet!$Q25-2,4,1,2))) -> 0 | U25: {=IF(ISNA(M25),"",OFFSET(Payments!$A$11,Worksheet!L26-2,0,1,6))} | AB25: {=IF(ISNA(R25),"",OFFSET(Receipts!$A$10,Worksheet!Q26-2,0,1,6))}
C26: 0 | D26: 0 | E26: 0 | F26: 0 | G26: 0 | H26: 0 | K26: =IF(AND(ISBLANK(Payments!A35),ISBLANK(Payments!B35),ISBLANK(Payments!F35)),TRUE,IF(ISBLANK(Payments!E35),FALSE,TRUE)) -> TRUE | L26: =L25+M25 -> #N/A | M26: =MATCH(FALSE,OFFSET($K$1,L26,0,999,1),0) -> #N/A | N26: =IF(ISNA(L26),0,OFFSET(Payments!$A$11,Worksheet!$L26-2,5)) -> 0 | P26: =IF(AND(ISBLANK(Receipts!A34),ISBLANK(Receipts!B34),ISBLANK(Receipts!E34),ISBLANK(Receipts!F34)),TRUE,IF(ISBLANK(Receipts!D34),FALSE,TRUE)) -> TRUE | Q26: =Q25+R25 -> #N/A | R26: =MATCH(FALSE,OFFSET($P$1,Q26,0,999,1),0) -> #N/A | S26: =IF(ISNA(Q26),0,SUM(OFFSET(Receipts!$A$10,Worksheet!$Q26-2,4,1,2))) -> 0 | U26: {=IF(ISNA(M26),"",OFFSET(Payments!$A$11,Worksheet!L27-2,0,1,6))} | AB26: {=IF(ISNA(R26),"",OFFSET(Receipts!$A$10,Worksheet!Q27-2,0,1,6))}
... C31: 0 | D31: 0 | E31: 0 | F31: 0 | G31: 0 | H31: 0 | K31: =IF(AND(ISBLANK(Payments!A40),ISBLANK(Payments!B40),ISBLANK(Payments!F40)),TRUE,IF(ISBLANK(Payments!E40),FALSE,TRUE)) -> TRUE | L31: =L30+M30 -> #N/A | M31: =MATCH(FALSE,OFFSET($K$1,L31,0,999,1),0) -> #N/A | N31: =IF(ISNA(L31),0,OFFSET(Payments!$A$11,Worksheet!$L31-2,5)) -> 0 | P31: =IF(AND(ISBLANK(Receipts!A39),ISBLANK(Receipts!B39),ISBLANK(Receipts!E39),ISBLANK(Receipts!F39)),TRUE,IF(ISBLANK(Receipts!D39),FALSE,TRUE)) -> TRUE | Q31: =Q30+R30 -> #N/A | R31: =MATCH(FALSE,OFFSET($P$1,Q31,0,999,1),0) -> #N/A | S31: =IF(ISNA(Q31),0,SUM(OFFSET(Receipts!$A$10,Worksheet!$Q31-2,4,1,2))) -> 0 | U31: {=IF(ISNA(M31),"",OFFSET(Payments!$A$11,Worksheet!L32-2,0,1,6))} | AB31: {=IF(ISNA(R31),"",OFFSET(Receipts!$A$10,Worksheet!Q32-2,0,1,6))}
K32: =IF(AND(ISBLANK(Payments!A41),ISBLANK(Payments!B41),ISBLANK(Payments!F41)),TRUE,IF(ISBLANK(Payments!E41),FALSE,TRUE)) -> TRUE | L32: =L31+M31 -> #N/A | M32: =MATCH(FALSE,OFFSET($K$1,L32,0,999,1),0) -> #N/A | N32: =IF(ISNA(L32),0,OFFSET(Payments!$A$11,Worksheet!$L32-2,5)) -> 0 | P32: =IF(AND(ISBLANK(Receipts!A40),ISBLANK(Receipts!B40),ISBLANK(Receipts!E40),ISBLANK(Receipts!F40)),TRUE,IF(ISBLANK(Receipts!D40),FALSE,TRUE)) -> TRUE | Q32: =Q31+R31 -> #N/A | R32: =MATCH(FALSE,OFFSET($P$1,Q32,0,999,1),0) -> #N/A | S32: =IF(ISNA(Q32),0,SUM(OFFSET(Receipts!$A$10,Worksheet!$Q32-2,4,1,2))) -> 0
C33: =COUNTIF(C14:C31,">0") -> 0 | H33: =SUM(H13:H31) -> 0 | K33: =IF(AND(ISBLANK(Payments!A42),ISBLANK(Payments!B42),ISBLANK(Payments!F42)),TRUE,IF(ISBLANK(Payments!E42),FALSE,TRUE)) -> TRUE | L33: =L32+M32 -> #N/A | M33: =MATCH(FALSE,OFFSET($K$1,L33,0,999,1),0) -> #N/A | N33: =IF(ISNA(L33),0,OFFSET(Payments!$A$11,Worksheet!$L33-2,5)) -> 0 | P33: =IF(AND(ISBLANK(Receipts!A41),ISBLANK(Receipts!B41),ISBLANK(Receipts!E41),ISBLANK(Receipts!F41)),TRUE,IF(ISBLANK(Receipts!D41),FALSE,TRUE)) -> TRUE | Q33: =Q32+R32 -> #N/A | R33: =MATCH(FALSE,OFFSET($P$1,Q33,0,999,1),0) -> #N/A | S33: =IF(ISNA(Q33),0,SUM(OFFSET(Receipts!$A$10,Worksheet!$Q33-2,4,1,2))) -> 0
K34: =IF(AND(ISBLANK(Payments!A43),ISBLANK(Payments!B43),ISBLANK(Payments!F43)),TRUE,IF(ISBLANK(Payments!E43),FALSE,TRUE)) -> TRUE | L34: =L33+M33 -> #N/A | M34: =MATCH(FALSE,OFFSET($K$1,L34,0,999,1),0) -> #N/A | N34: =IF(ISNA(L34),0,OFFSET(Payments!$A$11,Worksheet!$L34-2,5)) -> 0 | P34: =IF(AND(ISBLANK(Receipts!A42),ISBLANK(Receipts!B42),ISBLANK(Receipts!E42),ISBLANK(Receipts!F42)),TRUE,IF(ISBLANK(Receipts!D42),FALSE,TRUE)) -> TRUE | Q34: =Q33+R33 -> #N/A | R34: =MATCH(FALSE,OFFSET($P$1,Q34,0,999,1),0) -> #N/A | S34: =IF(ISNA(Q34),0,SUM(OFFSET(Receipts!$A$10,Worksheet!$Q34-2,4,1,2))) -> 0
K35: =IF(AND(ISBLANK(Payments!A44),ISBLANK(Payments!B44),ISBLANK(Payments!F44)),TRUE,IF(ISBLANK(Payments!E44),FALSE,TRUE)) -> TRUE | L35: =L34+M34 -> #N/A | M35: =MATCH(FALSE,OFFSET($K$1,L35,0,999,1),0) -> #N/A | N35: =IF(ISNA(L35),0,OFFSET(Payments!$A$11,Worksheet!$L35-2,5)) -> 0 | P35: =IF(AND(ISBLANK(Receipts!A43),ISBLANK(Receipts!B43),ISBLANK(Receipts!E43),ISBLANK(Receipts!F43)),TRUE,IF(ISBLANK(Receipts!D43),FALSE,TRUE)) -> TRUE | Q35: =Q34+R34 -> #N/A | R35: =MATCH(FALSE,OFFSET($P$1,Q35,0,999,1),0) -> #N/A | S35: =IF(ISNA(Q35),0,SUM(OFFSET(Receipts!$A$10,Worksheet!$Q35-2,4,1,2))) -> 0
B36: Receipts | K36: =IF(AND(ISBLANK(Payments!A45),ISBLANK(Payments!B45),ISBLANK(Payments!F45)),TRUE,IF(ISBLANK(Payments!E45),FALSE,TRUE)) -> TRUE | L36: =L35+M35 -> #N/A | M36: =MATCH(FALSE,OFFSET($K$1,L36,0,999,1),0) -> #N/A | N36: =IF(ISNA(L36),0,OFFSET(Payments!$A$11,Worksheet!$L36-2,5)) -> 0 | P36: =IF(AND(ISBLANK(Receipts!A44),ISBLANK(Receipts!B44),ISBLANK(Receipts!E44),ISBLANK(Receipts!F44)),TRUE,IF(ISBLANK(Receipts!D44),FALSE,TRUE)) -> TRUE | Q36: =Q35+R35 -> #N/A | R36: =MATCH(FALSE,OFFSET($P$1,Q36,0,999,1),0) -> #N/A | S36: =IF(ISNA(Q36),0,SUM(OFFSET(Receipts!$A$10,Worksheet!$Q36-2,4,1,2))) -> 0
B37: =IF(ISNA(MATCH(MIN(Settings!$C$9-1,Settings!$C$7),Receipts!A10:A200,1)),1,MATCH(MIN(Settings!$C$9-1,Settings!$C$7),Receipts!A10:A200,1)) -> 26 | C37: {=OFFSET(Receipts!$A$10,Worksheet!B37,0,20,6)} -> 42813 | D37: Bank | E37: interest | F37: 42813 | G37: 0.28 | H37: 0 | K37: =IF(AND(ISBLANK(Payments!A46),ISBLANK(Payments!B46),ISBLANK(Payments!F46)),TRUE,IF(ISBLANK(Payments!E46),FALSE,TRUE)) -> TRUE | L37: =L36+M36 -> #N/A | M37: =MATCH(FALSE,OFFSET($K$1,L37,0,999,1),0) -> #N/A | N37: =IF(ISNA(L37),0,OFFSET(Payments!$A$11,Worksheet!$L37-2,5)) -> 0 | P37: =IF(AND(ISBLANK(Receipts!A45),ISBLANK(Receipts!B45),ISBLANK(Receipts!E45),ISBLANK(Receipts!F45)),TRUE,IF(ISBLANK(Receipts!D45),FALSE,TRUE)) -> TRUE | Q37: =Q36+R36 -> #N/A | R37: =MATCH(FALSE,OFFSET($P$1,Q37,0,999,1),0) -> #N/A | S37: =IF(ISNA(Q37),0,SUM(OFFSET(Receipts!$A$10,Worksheet!$Q37-2,4,1,2))) -> 0
C38: 42802 | D38: CDC | E38: new homes bonus | F38: 42802 | G38: 0 | H38: 1316.5 | K38: =IF(AND(ISBLANK(Payments!A47),ISBLANK(Payments!B47),ISBLANK(Payments!F47)),TRUE,IF(ISBLANK(Payments!E47),FALSE,TRUE)) -> TRUE | L38: =L37+M37 -> #N/A | M38: =MATCH(FALSE,OFFSET($K$1,L38,0,999,1),0) -> #N/A | N38: =IF(ISNA(L38),0,OFFSET(Payments!$A$11,Worksheet!$L38-2,5)) -> 0 | P38: =IF(AND(ISBLANK(Receipts!A46),ISBLANK(Receipts!B46),ISBLANK(Receipts!E46),ISBLANK(Receipts!F46)),TRUE,IF(ISBLANK(Receipts!D46),FALSE,TRUE)) -> TRUE | Q38: =Q37+R37 -> #N/A | R38: =MATCH(FALSE,OFFSET($P$1,Q38,0,999,1),0) -> #N/A | S38: =IF(ISNA(Q38),0,SUM(OFFSET(Receipts!$A$10,Worksheet!$Q38-2,4,1,2))) -> 0
C39: 0 | D39: 0 | E39: 0 | F39: 0 | G39: 0 | H39: 0 | K39: =IF(AND(ISBLANK(Payments!A48),ISBLANK(Payments!B48),ISBLANK(Payments!F48)),TRUE,IF(ISBLANK(Payments!E48),FALSE,TRUE)) -> TRUE | L39: =L38+M38 -> #N/A | M39: =MATCH(FALSE,OFFSET($K$1,L39,0,999,1),0) -> #N/A | N39: =IF(ISNA(L39),0,OFFSET(Payments!$A$11,Worksheet!$L39-2,5)) -> 0 | P39: =IF(AND(ISBLANK(Receipts!A47),ISBLANK(Receipts!B47),ISBLANK(Receipts!E47),ISBLANK(Receipts!F47)),TRUE,IF(ISBLANK(Receipts!D47),FALSE,TRUE)) -> TRUE | Q39: =Q38+R38 -> #N/A | R39: =MATCH(FALSE,OFFSET($P$1,Q39,0,999,1),0) -> #N/A | S39: =IF(ISNA(Q39),0,SUM(OFFSET(Receipts!$A$10,Worksheet!$Q39-2,4,1,2))) -> 0
C40: 0 | D40: 0 | E40: 0 | F40: 0 | G40: 0 | H40: 0 | K40: =IF(AND(ISBLANK(Payments!A49),ISBLANK(Payments!B49),ISBLANK(Payments!F49)),TRUE,IF(ISBLANK(Payments!E49),FALSE,TRUE)) -> TRUE | L40: =L39+M39 -> #N/A | M40: =MATCH(FALSE,OFFSET($K$1,L40,0,999,1),0) -> #N/A | N40: =IF(ISNA(L40),0,OFFSET(Payments!$A$11,Worksheet!$L40-2,5)) -> 0 | P40: =IF(AND(ISBLANK(Receipts!A48),ISBLANK(Receipts!B48),ISBLANK(Receipts!E48),ISBLANK(Receipts!F48)),TRUE,IF(ISBLANK(Receipts!D48),FALSE,TRUE)) -> TRUE | Q40: =Q39+R39 -> #N/A | R40: =MATCH(FALSE,OFFSET($P$1,Q40,0,999,1),0) -> #N/A | S40: =IF(ISNA(Q40),0,SUM(OFFSET(Receipts!$A$10,Worksheet!$Q40-2,4,1,2))) -> 0
C41: 0 | D41: 0 | E41: 0 | F41: 0 | G41: 0 | H41: 0 | K41: =IF(AND(ISBLANK(Payments!A50),ISBLANK(Payments!B50),ISBLANK(Payments!F50)),TRUE,IF(ISBLANK(Payments!E50),FALSE,TRUE)) -> TRUE | L41: =L40+M40 -> #N/A | M41: =MATCH(FALSE,OFFSET($K$1,L41,0,999,1),0) -> #N/A | N41: =IF(ISNA(L41),0,OFFSET(Payments!$A$11,Worksheet!$L41-2,5)) -> 0 | P41: =IF(AND(ISBLANK(Receipts!A49),ISBLANK(Receipts!B49),ISBLANK(Receipts!E49),ISBLANK(Receipts!F49)),TRUE,IF(ISBLANK(Receipts!D49),FALSE,TRUE)) -> TRUE | Q41: =Q40+R40 -> #N/A | R41: =MATCH(FALSE,OFFSET($P$1,Q41,0,999,1),0) -> #N/A | S41: =IF(ISNA(Q41),0,SUM(OFFSET(Receipts!$A$10,Worksheet!$Q41-2,4,1,2))) -> 0
C42: 0 | D42: 0 | E42: 0 | F42: 0 | G42: 0 | H42: 0 | K42: =IF(AND(ISBLANK(Payments!A51),ISBLANK(Payments!B51),ISBLANK(Payments!F51)),TRUE,IF(ISBLANK(Payments!E51),FALSE,TRUE)) -> TRUE | L42: =L41+M41 -> #N/A | M42: =MATCH(FALSE,OFFSET($K$1,L42,0,999,1),0) -> #N/A | N42: =IF(ISNA(L42),0,OFFSET(Payments!$A$11,Worksheet!$L42-2,5)) -> 0 | P42: =IF(AND(ISBLANK(Receipts!A50),ISBLANK(Receipts!B50),ISBLANK(Receipts!E50),ISBLANK(Receipts!F50)),TRUE,IF(ISBLANK(Receipts!D50),FALSE,TRUE)) -> TRUE | Q42: =Q41+R41 -> #N/A | R42: =MATCH(FALSE,OFFSET($P$1,Q42,0,999,1),0) -> #N/A | S42: =IF(ISNA(Q42),0,SUM(OFFSET(Receipts!$A$10,Worksheet!$Q42-2,4,1,2))) -> 0
B43: Summarize | C43: 0 | D43: 0 | E43: 0 | F43: 0 | G43: 0 | H43: 0 | K43: =IF(AND(ISBLANK(Payments!A52),ISBLANK(Payments!B52),ISBLANK(Payments!F52)),TRUE,IF(ISBLANK(Payments!E52),FALSE,TRUE)) -> TRUE | L43: =L42+M42 -> #N/A | M43: =MATCH(FALSE,OFFSET($K$1,L43,0,999,1),0) -> #N/A | N43: =IF(ISNA(L43),0,OFFSET(Payments!$A$11,Worksheet!$L43-2,5)) -> 0 | P43: =IF(AND(ISBLANK(Receipts!A51),ISBLANK(Receipts!B51),ISBLANK(Receipts!E51),ISBLANK(Receipts!F51)),TRUE,IF(ISBLANK(Receipts!D51),FALSE,TRUE)) -> TRUE | Q43: =Q42+R42 -> #N/A | R43: =MATCH(FALSE,OFFSET($P$1,Q43,0,999,1),0) -> #N/A | S43: =IF(ISNA(Q43),0,SUM(OFFSET(Receipts!$A$10,Worksheet!$Q43-2,4,1,2))) -> 0
C44: 0 | D44: 0 | E44: 0 | F44: 0 | G44: 0 | H44: 0 | K44: =IF(AND(ISBLANK(Payments!A53),ISBLANK(Payments!B53),ISBLANK(Payments!F53)),TRUE,IF(ISBLANK(Payments!E53),FALSE,TRUE)) -> TRUE | L44: =L43+M43 -> #N/A | M44: =MATCH(FALSE,OFFSET($K$1,L44,0,999,1),0) -> #N/A | N44: =IF(ISNA(L44),0,OFFSET(Payments!$A$11,Worksheet!$L44-2,5)) -> 0 | P44: =IF(AND(ISBLANK(Receipts!A52),ISBLANK(Receipts!B52),ISBLANK(Receipts!E52),ISBLANK(Receipts!F52)),TRUE,IF(ISBLANK(Receipts!D52),FALSE,TRUE)) -> TRUE | Q44: =Q43+R43 -> #N/A | R44: =MATCH(FALSE,OFFSET($P$1,Q44,0,999,1),0) -> #N/A | S44: =IF(ISNA(Q44),0,SUM(OFFSET(Receipts!$A$10,Worksheet!$Q44-2,4,1,2))) -> 0
...

Sheet Prior
A1: =[1]Income!C1 -> Piddington Parish Council | B1: =[1]Income!D1 -> 0 | C1: =[1]Income!E1 -> 0 | D1: =[1]Income!F1 -> 0 | E1: =[1]Income!G1 -> 0 | F1: =[1]Income!H1 -> 0 | G1: =[1]Income!I1 -> 0 | I1: =[1]Balance!A1 -> 0 | J1: =[1]Balance!B1 -> 0 | K1: =[1]Balance!C1 -> Piddington Parish Council | L1: =[1]Balance!D1 -> 0 | M1: =[1]Balance!E1 -> 0 | N1: =[1]Balance!F1 -> 0 | O1: =[1]Balance!G1 -> 0 | Q1: =[1]Audit!D1 -> 31st March 2016
A2: =[1]Income!C2 -> 0 | B2: =[1]Income!D2 -> 0 | C2: =[1]Income!E2 -> 0 | D2: =[1]Income!F2 -> 0 | E2: =[1]Income!G2 -> 0 | F2: =[1]Income!H2 -> 0 | G2: =[1]Income!I2 -> 0 | I2: =[1]Balance!A2 -> 0 | J2: =[1]Balance!B2 -> 0 | K2: =[1]Balance!C2 -> 0 | L2: =[1]Balance!D2 -> 0 | M2: =[1]Balance!E2 -> 0 | N2: =[1]Balance!F2 -> 0 | O2: =[1]Balance!G2 -> 0 | Q2: =[1]Audit!D2 -> 0
A3: =[1]Income!C3 -> 0 | B3: =[1]Income!D3 -> 0 | C3: =[1]Income!E3 -> 1st April 2015 to 31st March 2016 | D3: =[1]Income!F3 -> 0 | E3: =[1]Income!G3 -> 0 | F3: =[1]Income!H3 -> 0 | G3: =[1]Income!I3 -> 0 | I3: =[1]Balance!A3 -> 0 | J3: =[1]Balance!B3 -> 0 | K3: =[1]Balance!C3 -> Balance sheet | L3: =[1]Balance!D3 -> 0 | M3: =[1]Balance!E3 -> 31st March 2016 | N3: =[1]Balance!F3 -> 0 | O3: =[1]Balance!G3 -> 0 | Q3: =[1]Audit!D3 -> 0
A4: =[1]Income!C4 -> 0 | B4: =[1]Income!D4 -> 0 | C4: =[1]Income!E4 -> 0 | D4: =[1]Income!F4 -> 0 | E4: =[1]Income!G4 -> 0 | F4: =[1]Income!H4 -> 0 | G4: =[1]Income!I4 -> 0 | I4: =[1]Balance!A4 -> 0 | J4: =[1]Balance!B4 -> 0 | K4: =[1]Balance!C4 -> 0 | L4: =[1]Balance!D4 -> 0 | M4: =[1]Balance!E4 -> 0 | N4: =[1]Balance!F4 -> 0 | O4: =[1]Balance!G4 -> 0 | Q4: =[1]Audit!D4 -> 0
A5: =[1]Income!C5 -> 0 | B5: =[1]Income!D5 -> 0 | C5: =[1]Income!E5 -> 0 | D5: =[1]Income!F5 -> 0 | E5: =[1]Income!G5 -> 0 | F5: =[1]Income!H5 -> 0 | G5: =[1]Income!I5 -> 0 | I5: =[1]Balance!A5 -> Prior year | J5: =[1]Balance!B5 -> 0 | K5: =[1]Balance!C5 -> 0 | L5: =[1]Balance!D5 -> 0 | M5: =[1]Balance!E5 -> 0 | N5: =[1]Balance!F5 -> 0 | O5: =[1]Balance!G5 -> 0 | Q5: =[1]Audit!D5 -> Current year
A6: =[1]Income!C6 -> INCOME | B6: =[1]Income!D6 -> 0 | C6: =[1]Income!E6 -> 0 | D6: =[1]Income!F6 -> 0 | E6: =[1]Income!G6 -> 0 | F6: =[1]Income!H6 -> 0 | G6: =[1]Income!I6 -> 0 | I6: =[1]Balance!A6 -> 0 | J6: =[1]Balance!B6 -> 0 | K6: =[1]Balance!C6 -> CURRENT ASSETS | L6: =[1]Balance!D6 -> 0 | M6: =[1]Balance!E6 -> 0 | N6: =[1]Balance!F6 -> 0 | O6: =[1]Balance!G6 -> 0 | Q6: =[1]Audit!D6 -> 0
A7: =[1]Income!C7 -> 0 | B7: =[1]Income!D7 -> 0 | C7: =[1]Income!E7 -> 0 | D7: =[1]Income!F7 -> 0 | E7: =[1]Income!G7 -> 0 | F7: =[1]Income!H7 -> 0 | G7: =[1]Income!I7 -> 0 | I7: =[1]Balance!A7 -> 0 | J7: =[1]Balance!B7 -> 0 | K7: =[1]Balance!C7 -> 0 | L7: =[1]Balance!D7 -> 0 | M7: =[1]Balance!E7 -> 0 | N7: =[1]Balance!F7 -> 0 | O7: =[1]Balance!G7 -> 0 | Q7: =[1]Audit!D7 -> 13553.19
A8: =[1]Income!C8 -> Precept | B8: =[1]Income!D8 -> 0 | C8: =[1]Income!E8 -> 0 | D8: =[1]Income!F8 -> 0 | E8: =[1]Income!G8 -> 0 | F8: =[1]Income!H8 -> 7739 | G8: =[1]Income!I8 -> 0 | I8: =[1]Balance!A8 -> 983.77 | J8: =[1]Balance!B8 -> 0 | K8: =[1]Balance!C8 -> Sundry Debtors | L8: =[1]Balance!D8 -> 0 | M8: =[1]Balance!E8 -> 0 | N8: =[1]Balance!F8 -> 0 | O8: =[1]Balance!G8 -> 1310.99 | Q8: =[1]Audit!D8 -> 0
A9: =[1]Income!C9 -> Interest | B9: =[1]Income!D9 -> 0 | C9: =[1]Income!E9 -> 0 | D9: =[1]Income!F9 -> 0 | E9: =[1]Income!G9 -> 0 | F9: =[1]Income!H9 -> 5.16 | G9: =[1]Income!I9 -> 0 | I9: =[1]Balance!A9 -> 9003.11 | J9: =[1]Balance!B9 -> 0 | K9: =[1]Balance!C9 -> Savings Account | L9: =[1]Balance!D9 -> 0 | M9: =[1]Balance!E9 -> 0 | N9: =[1]Balance!F9 -> 0 | O9: =[1]Balance!G9 -> 9008.27 | Q9: =[1]Audit!D9 -> 7739
A10: =[1]Income!C10 -> Rental income | B10: =[1]Income!D10 -> 0 | C10: =[1]Income!E10 -> 0 | D10: =[1]Income!F10 -> 0 | E10: =[1]Income!G10 -> 0 | F10: =[1]Income!H10 -> 2640 | G10: =[1]Income!I10 -> 0 | I10: =[1]Balance!A10 -> 3566.31 | J10: =[1]Balance!B10 -> 0 | K10: =[1]Balance!C10 -> Current Account | L10: =[1]Balance!D10 -> 0 | M10: =[1]Balance!E10 -> 0 | N10: =[1]Balance!F10 -> 0 | O10: =[1]Balance!G10 -> 17425.96 | Q10: =[1]Audit!D10 -> 0
A11: =[1]Income!C11 -> Grants | B11: =[1]Income!D11 -> 0 | C11: =[1]Income!E11 -> 0 | D11: =[1]Income!F11 -> 0 | E11: =[1]Income!G11 -> 0 | F11: =[1]Income!H11 -> 8253.02 | G11: =[1]Income!I11 -> 0 | I11: =[1]Balance!A11 -> __________ | J11: =[1]Balance!B11 -> 0 | K11: =[1]Balance!C11 -> 0 | L11: =[1]Balance!D11 -> 0 | M11: =[1]Balance!E11 -> 0 | N11: =[1]Balance!F11 -> 0 | O11: =[1]Balance!G11 -> __________ | Q11: =[1]Audit!D11 -> 12842.44
A12: =[1]Income!C12 -> Donations | B12: =[1]Income!D12 -> 0 | C12: =[1]Income!E12 -> 0 | D12: =[1]Income!F12 -> 0 | E12: =[1]Income!G12 -> 0 | F12: =[1]Income!H12 -> 1075 | G12: =[1]Income!I12 -> 0 | I12: =[1]Balance!A12 -> 13553.19 | J12: =[1]Balance!B12 -> 0 | K12: =[1]Balance!C12 -> 0 | L12: =[1]Balance!D12 -> 0 | M12: =[1]Balance!E12 -> 0 | N12: =[1]Balance!F12 -> 0 | O12: =[1]Balance!G12 -> 27745.22 | Q12: =[1]Audit!D12 -> 0
... A30: =[1]Income!C30 -> Grants & Donations | B30: =[1]Income!D30 -> 0 | C30: =[1]Income!E30 -> 0 | D30: =[1]Income!F30 -> 150 | E30: =[1]Income!G30 -> 0 | F30: =[1]Income!H30 -> 0 | G30: =[1]Income!I30 -> 0 | I30: =[1]Balance!A30 -> __________ | J30: =[1]Balance!B30 -> 0 | K30: =[1]Balance!C30 -> 0 | L30: =[1]Balance!D30 -> 0 | M30: =[1]Balance!E30 -> 0 | N30: =[1]Balance!F30 -> 0 | O30: =[1]Balance!G30 -> __________ | Q30: =[1]Audit!D30 -> 0
A31: =[1]Income!C31 -> CLP | B31: =[1]Income!D31 -> 0 | C31: =[1]Income!E31 -> 0 | D31: =[1]Income!F31 -> 236.55 | E31: =[1]Income!G31 -> 0 | F31: =[1]Income!H31 -> 0 | G31: =[1]Income!I31 -> 0 | I31: =[1]Balance!A31 -> 0 | J31: =[1]Balance!B31 -> 0 | K31: =[1]Balance!C31 -> 0 | L31: =[1]Balance!D31 -> 0 | M31: =[1]Balance!E31 -> 0 | N31: =[1]Balance!F31 -> 0 | O31: =[1]Balance!G31 -> 0
